BEGIN:VCALENDAR
VERSION:2.0
PRODID:-//St. John’s Presbyterian Church - ECPv6.15.20//NONSGML v1.0//EN
CALSCALE:GREGORIAN
METHOD:PUBLISH
X-ORIGINAL-URL:https://www.stjohnsdevon.com
X-WR-CALDESC:Events for St. John’s Presbyterian Church
REFRESH-INTERVAL;VALUE=DURATION:PT1H
X-Robots-Tag:noindex
X-PUBLISHED-TTL:PT1H
BEGIN:VTIMEZONE
TZID:America/New_York
BEGIN:DAYLIGHT
TZOFFSETFROM:-0500
TZOFFSETTO:-0400
TZNAME:EDT
DTSTART:20250309T070000
END:DAYLIGHT
BEGIN:STANDARD
TZOFFSETFROM:-0400
TZOFFSETTO:-0500
TZNAME:EST
DTSTART:20251102T060000
END:STANDARD
BEGIN:DAYLIGHT
TZOFFSETFROM:-0500
TZOFFSETTO:-0400
TZNAME:EDT
DTSTART:20260308T070000
END:DAYLIGHT
BEGIN:STANDARD
TZOFFSETFROM:-0400
TZOFFSETTO:-0500
TZNAME:EST
DTSTART:20261101T060000
END:STANDARD
BEGIN:DAYLIGHT
TZOFFSETFROM:-0500
TZOFFSETTO:-0400
TZNAME:EDT
DTSTART:20270314T070000
END:DAYLIGHT
BEGIN:STANDARD
TZOFFSETFROM:-0400
TZOFFSETTO:-0500
TZNAME:EST
DTSTART:20271107T060000
END:STANDARD
BEGIN:DAYLIGHT
TZOFFSETFROM:-0500
TZOFFSETTO:-0400
TZNAME:EDT
DTSTART:20280312T070000
END:DAYLIGHT
BEGIN:STANDARD
TZOFFSETFROM:-0400
TZOFFSETTO:-0500
TZNAME:EST
DTSTART:20281105T060000
END:STANDARD
END:VTIMEZONE
BEGIN:VEVENT
DTSTART;TZID=America/New_York:20261117T080000
DTEND;TZID=America/New_York:20261117T150000
DTSTAMP:20260424T123315
CREATED:20250130T202923Z
LAST-MODIFIED:20250924T002814Z
UID:10001594-1794902400-1794927600@www.stjohnsdevon.com
SUMMARY:Sogetsu Class
DESCRIPTION:
URL:https://www.stjohnsdevon.com/event/ikebana-class/2026-11-17/
LOCATION:Fellowship Hall
ATTACH;FMTTYPE=image/jpeg:https://www.stjohnsdevon.com/wp-content/uploads/2025/01/47706972662_316aa650c3_c.jpg
END:VEVENT
BEGIN:VEVENT
DTSTART;TZID=America/New_York:20261117T163000
DTEND;TZID=America/New_York:20261117T173000
DTSTAMP:20260424T123315
CREATED:20250702T194805Z
LAST-MODIFIED:20260114T164605Z
UID:10003645-1794933000-1794936600@www.stjohnsdevon.com
SUMMARY:Exercise Class
DESCRIPTION:
URL:https://www.stjohnsdevon.com/event/exercise-class/2026-11-17/
LOCATION:Fellowship Hall
ATTACH;FMTTYPE=image/jpeg:https://www.stjohnsdevon.com/wp-content/uploads/2024/12/anupam-mahapatra-Vz0RbclzG_w-unsplash.jpg
END:VEVENT
BEGIN:VEVENT
DTSTART;TZID=America/New_York:20261119T163000
DTEND;TZID=America/New_York:20261119T173000
DTSTAMP:20260424T123315
CREATED:20241203T211408Z
LAST-MODIFIED:20260114T164651Z
UID:10003910-1795105800-1795109400@www.stjohnsdevon.com
SUMMARY:Exercise Class
DESCRIPTION:
URL:https://www.stjohnsdevon.com/event/exercise-class-3/2026-11-19/
LOCATION:Fellowship Hall
ATTACH;FMTTYPE=image/jpeg:https://www.stjohnsdevon.com/wp-content/uploads/2024/12/anupam-mahapatra-Vz0RbclzG_w-unsplash.jpg
END:VEVENT
BEGIN:VEVENT
DTSTART;TZID=America/New_York:20261121T090000
DTEND;TZID=America/New_York:20261121T100000
DTSTAMP:20260424T123315
CREATED:20241203T172013Z
LAST-MODIFIED:20251008T164117Z
UID:10000581-1795251600-1795255200@www.stjohnsdevon.com
SUMMARY:Exercise Class
DESCRIPTION:
URL:https://www.stjohnsdevon.com/event/exercise-class-2/2026-11-21/
LOCATION:Fellowship Hall
ATTACH;FMTTYPE=image/jpeg:https://www.stjohnsdevon.com/wp-content/uploads/2024/12/anupam-mahapatra-Vz0RbclzG_w-unsplash.jpg
END:VEVENT
BEGIN:VEVENT
DTSTART;TZID=America/New_York:20261124T163000
DTEND;TZID=America/New_York:20261124T173000
DTSTAMP:20260424T123315
CREATED:20250702T194805Z
LAST-MODIFIED:20260114T164605Z
UID:10003646-1795537800-1795541400@www.stjohnsdevon.com
SUMMARY:Exercise Class
DESCRIPTION:
URL:https://www.stjohnsdevon.com/event/exercise-class/2026-11-24/
LOCATION:Fellowship Hall
ATTACH;FMTTYPE=image/jpeg:https://www.stjohnsdevon.com/wp-content/uploads/2024/12/anupam-mahapatra-Vz0RbclzG_w-unsplash.jpg
END:VEVENT
BEGIN:VEVENT
DTSTART;TZID=America/New_York:20261126T163000
DTEND;TZID=America/New_York:20261126T173000
DTSTAMP:20260424T123315
CREATED:20241203T211408Z
LAST-MODIFIED:20260114T164651Z
UID:10003911-1795710600-1795714200@www.stjohnsdevon.com
SUMMARY:Exercise Class
DESCRIPTION:
URL:https://www.stjohnsdevon.com/event/exercise-class-3/2026-11-26/
LOCATION:Fellowship Hall
ATTACH;FMTTYPE=image/jpeg:https://www.stjohnsdevon.com/wp-content/uploads/2024/12/anupam-mahapatra-Vz0RbclzG_w-unsplash.jpg
END:VEVENT
BEGIN:VEVENT
DTSTART;TZID=America/New_York:20261128T090000
DTEND;TZID=America/New_York:20261128T100000
DTSTAMP:20260424T123315
CREATED:20241203T172013Z
LAST-MODIFIED:20251008T164117Z
UID:10000582-1795856400-1795860000@www.stjohnsdevon.com
SUMMARY:Exercise Class
DESCRIPTION:
URL:https://www.stjohnsdevon.com/event/exercise-class-2/2026-11-28/
LOCATION:Fellowship Hall
ATTACH;FMTTYPE=image/jpeg:https://www.stjohnsdevon.com/wp-content/uploads/2024/12/anupam-mahapatra-Vz0RbclzG_w-unsplash.jpg
END:VEVENT
BEGIN:VEVENT
DTSTART;TZID=America/New_York:20261201T163000
DTEND;TZID=America/New_York:20261201T173000
DTSTAMP:20260424T123315
CREATED:20250702T194805Z
LAST-MODIFIED:20260114T164605Z
UID:10003647-1796142600-1796146200@www.stjohnsdevon.com
SUMMARY:Exercise Class
DESCRIPTION:
URL:https://www.stjohnsdevon.com/event/exercise-class/2026-12-01/
LOCATION:Fellowship Hall
ATTACH;FMTTYPE=image/jpeg:https://www.stjohnsdevon.com/wp-content/uploads/2024/12/anupam-mahapatra-Vz0RbclzG_w-unsplash.jpg
END:VEVENT
BEGIN:VEVENT
DTSTART;TZID=America/New_York:20261203T163000
DTEND;TZID=America/New_York:20261203T173000
DTSTAMP:20260424T123315
CREATED:20241203T211408Z
LAST-MODIFIED:20260114T164651Z
UID:10003912-1796315400-1796319000@www.stjohnsdevon.com
SUMMARY:Exercise Class
DESCRIPTION:
URL:https://www.stjohnsdevon.com/event/exercise-class-3/2026-12-03/
LOCATION:Fellowship Hall
ATTACH;FMTTYPE=image/jpeg:https://www.stjohnsdevon.com/wp-content/uploads/2024/12/anupam-mahapatra-Vz0RbclzG_w-unsplash.jpg
END:VEVENT
BEGIN:VEVENT
DTSTART;TZID=America/New_York:20261205T090000
DTEND;TZID=America/New_York:20261205T100000
DTSTAMP:20260424T123315
CREATED:20241203T172013Z
LAST-MODIFIED:20251008T164117Z
UID:10000583-1796461200-1796464800@www.stjohnsdevon.com
SUMMARY:Exercise Class
DESCRIPTION:
URL:https://www.stjohnsdevon.com/event/exercise-class-2/2026-12-05/
LOCATION:Fellowship Hall
ATTACH;FMTTYPE=image/jpeg:https://www.stjohnsdevon.com/wp-content/uploads/2024/12/anupam-mahapatra-Vz0RbclzG_w-unsplash.jpg
END:VEVENT
BEGIN:VEVENT
DTSTART;TZID=America/New_York:20261208T163000
DTEND;TZID=America/New_York:20261208T173000
DTSTAMP:20260424T123315
CREATED:20250702T194805Z
LAST-MODIFIED:20260114T164605Z
UID:10003648-1796747400-1796751000@www.stjohnsdevon.com
SUMMARY:Exercise Class
DESCRIPTION:
URL:https://www.stjohnsdevon.com/event/exercise-class/2026-12-08/
LOCATION:Fellowship Hall
ATTACH;FMTTYPE=image/jpeg:https://www.stjohnsdevon.com/wp-content/uploads/2024/12/anupam-mahapatra-Vz0RbclzG_w-unsplash.jpg
END:VEVENT
BEGIN:VEVENT
DTSTART;TZID=America/New_York:20261210T163000
DTEND;TZID=America/New_York:20261210T173000
DTSTAMP:20260424T123315
CREATED:20241203T211408Z
LAST-MODIFIED:20260114T164651Z
UID:10003913-1796920200-1796923800@www.stjohnsdevon.com
SUMMARY:Exercise Class
DESCRIPTION:
URL:https://www.stjohnsdevon.com/event/exercise-class-3/2026-12-10/
LOCATION:Fellowship Hall
ATTACH;FMTTYPE=image/jpeg:https://www.stjohnsdevon.com/wp-content/uploads/2024/12/anupam-mahapatra-Vz0RbclzG_w-unsplash.jpg
END:VEVENT
BEGIN:VEVENT
DTSTART;TZID=America/New_York:20261212T090000
DTEND;TZID=America/New_York:20261212T100000
DTSTAMP:20260424T123315
CREATED:20241203T172013Z
LAST-MODIFIED:20251008T164117Z
UID:10000584-1797066000-1797069600@www.stjohnsdevon.com
SUMMARY:Exercise Class
DESCRIPTION:
URL:https://www.stjohnsdevon.com/event/exercise-class-2/2026-12-12/
LOCATION:Fellowship Hall
ATTACH;FMTTYPE=image/jpeg:https://www.stjohnsdevon.com/wp-content/uploads/2024/12/anupam-mahapatra-Vz0RbclzG_w-unsplash.jpg
END:VEVENT
BEGIN:VEVENT
DTSTART;TZID=America/New_York:20261215T080000
DTEND;TZID=America/New_York:20261215T150000
DTSTAMP:20260424T123315
CREATED:20250130T202923Z
LAST-MODIFIED:20250924T002814Z
UID:10001595-1797321600-1797346800@www.stjohnsdevon.com
SUMMARY:Sogetsu Class
DESCRIPTION:
URL:https://www.stjohnsdevon.com/event/ikebana-class/2026-12-15/
LOCATION:Fellowship Hall
ATTACH;FMTTYPE=image/jpeg:https://www.stjohnsdevon.com/wp-content/uploads/2025/01/47706972662_316aa650c3_c.jpg
END:VEVENT
BEGIN:VEVENT
DTSTART;TZID=America/New_York:20261215T163000
DTEND;TZID=America/New_York:20261215T173000
DTSTAMP:20260424T123315
CREATED:20250702T194805Z
LAST-MODIFIED:20260114T164605Z
UID:10003649-1797352200-1797355800@www.stjohnsdevon.com
SUMMARY:Exercise Class
DESCRIPTION:
URL:https://www.stjohnsdevon.com/event/exercise-class/2026-12-15/
LOCATION:Fellowship Hall
ATTACH;FMTTYPE=image/jpeg:https://www.stjohnsdevon.com/wp-content/uploads/2024/12/anupam-mahapatra-Vz0RbclzG_w-unsplash.jpg
END:VEVENT
BEGIN:VEVENT
DTSTART;TZID=America/New_York:20261217T163000
DTEND;TZID=America/New_York:20261217T173000
DTSTAMP:20260424T123315
CREATED:20241203T211408Z
LAST-MODIFIED:20260114T164651Z
UID:10003914-1797525000-1797528600@www.stjohnsdevon.com
SUMMARY:Exercise Class
DESCRIPTION:
URL:https://www.stjohnsdevon.com/event/exercise-class-3/2026-12-17/
LOCATION:Fellowship Hall
ATTACH;FMTTYPE=image/jpeg:https://www.stjohnsdevon.com/wp-content/uploads/2024/12/anupam-mahapatra-Vz0RbclzG_w-unsplash.jpg
END:VEVENT
BEGIN:VEVENT
DTSTART;TZID=America/New_York:20261219T090000
DTEND;TZID=America/New_York:20261219T100000
DTSTAMP:20260424T123315
CREATED:20241203T172013Z
LAST-MODIFIED:20251008T164117Z
UID:10000585-1797670800-1797674400@www.stjohnsdevon.com
SUMMARY:Exercise Class
DESCRIPTION:
URL:https://www.stjohnsdevon.com/event/exercise-class-2/2026-12-19/
LOCATION:Fellowship Hall
ATTACH;FMTTYPE=image/jpeg:https://www.stjohnsdevon.com/wp-content/uploads/2024/12/anupam-mahapatra-Vz0RbclzG_w-unsplash.jpg
END:VEVENT
BEGIN:VEVENT
DTSTART;TZID=America/New_York:20261222T163000
DTEND;TZID=America/New_York:20261222T173000
DTSTAMP:20260424T123315
CREATED:20250702T194805Z
LAST-MODIFIED:20260114T164605Z
UID:10003650-1797957000-1797960600@www.stjohnsdevon.com
SUMMARY:Exercise Class
DESCRIPTION:
URL:https://www.stjohnsdevon.com/event/exercise-class/2026-12-22/
LOCATION:Fellowship Hall
ATTACH;FMTTYPE=image/jpeg:https://www.stjohnsdevon.com/wp-content/uploads/2024/12/anupam-mahapatra-Vz0RbclzG_w-unsplash.jpg
END:VEVENT
BEGIN:VEVENT
DTSTART;TZID=America/New_York:20261224T163000
DTEND;TZID=America/New_York:20261224T173000
DTSTAMP:20260424T123315
CREATED:20241203T211408Z
LAST-MODIFIED:20260114T164651Z
UID:10003915-1798129800-1798133400@www.stjohnsdevon.com
SUMMARY:Exercise Class
DESCRIPTION:
URL:https://www.stjohnsdevon.com/event/exercise-class-3/2026-12-24/
LOCATION:Fellowship Hall
ATTACH;FMTTYPE=image/jpeg:https://www.stjohnsdevon.com/wp-content/uploads/2024/12/anupam-mahapatra-Vz0RbclzG_w-unsplash.jpg
END:VEVENT
BEGIN:VEVENT
DTSTART;TZID=America/New_York:20261226T090000
DTEND;TZID=America/New_York:20261226T100000
DTSTAMP:20260424T123315
CREATED:20241203T172013Z
LAST-MODIFIED:20251008T164117Z
UID:10000586-1798275600-1798279200@www.stjohnsdevon.com
SUMMARY:Exercise Class
DESCRIPTION:
URL:https://www.stjohnsdevon.com/event/exercise-class-2/2026-12-26/
LOCATION:Fellowship Hall
ATTACH;FMTTYPE=image/jpeg:https://www.stjohnsdevon.com/wp-content/uploads/2024/12/anupam-mahapatra-Vz0RbclzG_w-unsplash.jpg
END:VEVENT
BEGIN:VEVENT
DTSTART;TZID=America/New_York:20261229T163000
DTEND;TZID=America/New_York:20261229T173000
DTSTAMP:20260424T123315
CREATED:20250702T194805Z
LAST-MODIFIED:20260114T164605Z
UID:10003651-1798561800-1798565400@www.stjohnsdevon.com
SUMMARY:Exercise Class
DESCRIPTION:
URL:https://www.stjohnsdevon.com/event/exercise-class/2026-12-29/
LOCATION:Fellowship Hall
ATTACH;FMTTYPE=image/jpeg:https://www.stjohnsdevon.com/wp-content/uploads/2024/12/anupam-mahapatra-Vz0RbclzG_w-unsplash.jpg
END:VEVENT
BEGIN:VEVENT
DTSTART;TZID=America/New_York:20261231T163000
DTEND;TZID=America/New_York:20261231T173000
DTSTAMP:20260424T123315
CREATED:20241203T211408Z
LAST-MODIFIED:20260114T164651Z
UID:10003916-1798734600-1798738200@www.stjohnsdevon.com
SUMMARY:Exercise Class
DESCRIPTION:
URL:https://www.stjohnsdevon.com/event/exercise-class-3/2026-12-31/
LOCATION:Fellowship Hall
ATTACH;FMTTYPE=image/jpeg:https://www.stjohnsdevon.com/wp-content/uploads/2024/12/anupam-mahapatra-Vz0RbclzG_w-unsplash.jpg
END:VEVENT
BEGIN:VEVENT
DTSTART;TZID=America/New_York:20270102T090000
DTEND;TZID=America/New_York:20270102T100000
DTSTAMP:20260424T123315
CREATED:20241203T172013Z
LAST-MODIFIED:20251008T164117Z
UID:10000587-1798880400-1798884000@www.stjohnsdevon.com
SUMMARY:Exercise Class
DESCRIPTION:
URL:https://www.stjohnsdevon.com/event/exercise-class-2/2027-01-02/
LOCATION:Fellowship Hall
ATTACH;FMTTYPE=image/jpeg:https://www.stjohnsdevon.com/wp-content/uploads/2024/12/anupam-mahapatra-Vz0RbclzG_w-unsplash.jpg
END:VEVENT
BEGIN:VEVENT
DTSTART;TZID=America/New_York:20270105T163000
DTEND;TZID=America/New_York:20270105T173000
DTSTAMP:20260424T123315
CREATED:20250702T194805Z
LAST-MODIFIED:20260114T164605Z
UID:10003652-1799166600-1799170200@www.stjohnsdevon.com
SUMMARY:Exercise Class
DESCRIPTION:
URL:https://www.stjohnsdevon.com/event/exercise-class/2027-01-05/
LOCATION:Fellowship Hall
ATTACH;FMTTYPE=image/jpeg:https://www.stjohnsdevon.com/wp-content/uploads/2024/12/anupam-mahapatra-Vz0RbclzG_w-unsplash.jpg
END:VEVENT
BEGIN:VEVENT
DTSTART;TZID=America/New_York:20270107T163000
DTEND;TZID=America/New_York:20270107T173000
DTSTAMP:20260424T123315
CREATED:20241203T211408Z
LAST-MODIFIED:20260114T164651Z
UID:10003917-1799339400-1799343000@www.stjohnsdevon.com
SUMMARY:Exercise Class
DESCRIPTION:
URL:https://www.stjohnsdevon.com/event/exercise-class-3/2027-01-07/
LOCATION:Fellowship Hall
ATTACH;FMTTYPE=image/jpeg:https://www.stjohnsdevon.com/wp-content/uploads/2024/12/anupam-mahapatra-Vz0RbclzG_w-unsplash.jpg
END:VEVENT
BEGIN:VEVENT
DTSTART;TZID=America/New_York:20270109T090000
DTEND;TZID=America/New_York:20270109T100000
DTSTAMP:20260424T123315
CREATED:20241203T172013Z
LAST-MODIFIED:20251008T164117Z
UID:10000588-1799485200-1799488800@www.stjohnsdevon.com
SUMMARY:Exercise Class
DESCRIPTION:
URL:https://www.stjohnsdevon.com/event/exercise-class-2/2027-01-09/
LOCATION:Fellowship Hall
ATTACH;FMTTYPE=image/jpeg:https://www.stjohnsdevon.com/wp-content/uploads/2024/12/anupam-mahapatra-Vz0RbclzG_w-unsplash.jpg
END:VEVENT
BEGIN:VEVENT
DTSTART;TZID=America/New_York:20270112T163000
DTEND;TZID=America/New_York:20270112T173000
DTSTAMP:20260424T123315
CREATED:20250702T194805Z
LAST-MODIFIED:20260114T164605Z
UID:10003653-1799771400-1799775000@www.stjohnsdevon.com
SUMMARY:Exercise Class
DESCRIPTION:
URL:https://www.stjohnsdevon.com/event/exercise-class/2027-01-12/
LOCATION:Fellowship Hall
ATTACH;FMTTYPE=image/jpeg:https://www.stjohnsdevon.com/wp-content/uploads/2024/12/anupam-mahapatra-Vz0RbclzG_w-unsplash.jpg
END:VEVENT
BEGIN:VEVENT
DTSTART;TZID=America/New_York:20270114T163000
DTEND;TZID=America/New_York:20270114T173000
DTSTAMP:20260424T123315
CREATED:20241203T211408Z
LAST-MODIFIED:20260114T164651Z
UID:10003918-1799944200-1799947800@www.stjohnsdevon.com
SUMMARY:Exercise Class
DESCRIPTION:
URL:https://www.stjohnsdevon.com/event/exercise-class-3/2027-01-14/
LOCATION:Fellowship Hall
ATTACH;FMTTYPE=image/jpeg:https://www.stjohnsdevon.com/wp-content/uploads/2024/12/anupam-mahapatra-Vz0RbclzG_w-unsplash.jpg
END:VEVENT
BEGIN:VEVENT
DTSTART;TZID=America/New_York:20270116T090000
DTEND;TZID=America/New_York:20270116T100000
DTSTAMP:20260424T123315
CREATED:20241203T172013Z
LAST-MODIFIED:20251008T164117Z
UID:10000589-1800090000-1800093600@www.stjohnsdevon.com
SUMMARY:Exercise Class
DESCRIPTION:
URL:https://www.stjohnsdevon.com/event/exercise-class-2/2027-01-16/
LOCATION:Fellowship Hall
ATTACH;FMTTYPE=image/jpeg:https://www.stjohnsdevon.com/wp-content/uploads/2024/12/anupam-mahapatra-Vz0RbclzG_w-unsplash.jpg
END:VEVENT
BEGIN:VEVENT
DTSTART;TZID=America/New_York:20270119T080000
DTEND;TZID=America/New_York:20270119T150000
DTSTAMP:20260424T123315
CREATED:20250130T202923Z
LAST-MODIFIED:20250924T002814Z
UID:10001596-1800345600-1800370800@www.stjohnsdevon.com
SUMMARY:Sogetsu Class
DESCRIPTION:
URL:https://www.stjohnsdevon.com/event/ikebana-class/2027-01-19/
LOCATION:Fellowship Hall
ATTACH;FMTTYPE=image/jpeg:https://www.stjohnsdevon.com/wp-content/uploads/2025/01/47706972662_316aa650c3_c.jpg
END:VEVENT
END:VCALENDAR