BEGIN:VCALENDAR
VERSION:2.0
PRODID:-//St. John’s Presbyterian Church - ECPv6.15.20//NONSGML v1.0//EN
CALSCALE:GREGORIAN
METHOD:PUBLISH
X-ORIGINAL-URL:https://www.stjohnsdevon.com
X-WR-CALDESC:Events for St. John’s Presbyterian Church
REFRESH-INTERVAL;VALUE=DURATION:PT1H
X-Robots-Tag:noindex
X-PUBLISHED-TTL:PT1H
BEGIN:VTIMEZONE
TZID:America/New_York
BEGIN:DAYLIGHT
TZOFFSETFROM:-0500
TZOFFSETTO:-0400
TZNAME:EDT
DTSTART:20250309T070000
END:DAYLIGHT
BEGIN:STANDARD
TZOFFSETFROM:-0400
TZOFFSETTO:-0500
TZNAME:EST
DTSTART:20251102T060000
END:STANDARD
BEGIN:DAYLIGHT
TZOFFSETFROM:-0500
TZOFFSETTO:-0400
TZNAME:EDT
DTSTART:20260308T070000
END:DAYLIGHT
BEGIN:STANDARD
TZOFFSETFROM:-0400
TZOFFSETTO:-0500
TZNAME:EST
DTSTART:20261101T060000
END:STANDARD
BEGIN:DAYLIGHT
TZOFFSETFROM:-0500
TZOFFSETTO:-0400
TZNAME:EDT
DTSTART:20270314T070000
END:DAYLIGHT
BEGIN:STANDARD
TZOFFSETFROM:-0400
TZOFFSETTO:-0500
TZNAME:EST
DTSTART:20271107T060000
END:STANDARD
END:VTIMEZONE
BEGIN:VEVENT
DTSTART;TZID=America/New_York:20260901T163000
DTEND;TZID=America/New_York:20260901T173000
DTSTAMP:20260424T082155
CREATED:20250702T194805Z
LAST-MODIFIED:20260114T164605Z
UID:10003634-1788280200-1788283800@www.stjohnsdevon.com
SUMMARY:Exercise Class
DESCRIPTION:
URL:https://www.stjohnsdevon.com/event/exercise-class/2026-09-01/
LOCATION:Fellowship Hall
ATTACH;FMTTYPE=image/jpeg:https://www.stjohnsdevon.com/wp-content/uploads/2024/12/anupam-mahapatra-Vz0RbclzG_w-unsplash.jpg
END:VEVENT
BEGIN:VEVENT
DTSTART;TZID=America/New_York:20260903T163000
DTEND;TZID=America/New_York:20260903T173000
DTSTAMP:20260424T082155
CREATED:20241203T211408Z
LAST-MODIFIED:20260114T164651Z
UID:10003899-1788453000-1788456600@www.stjohnsdevon.com
SUMMARY:Exercise Class
DESCRIPTION:
URL:https://www.stjohnsdevon.com/event/exercise-class-3/2026-09-03/
LOCATION:Fellowship Hall
ATTACH;FMTTYPE=image/jpeg:https://www.stjohnsdevon.com/wp-content/uploads/2024/12/anupam-mahapatra-Vz0RbclzG_w-unsplash.jpg
END:VEVENT
BEGIN:VEVENT
DTSTART;TZID=America/New_York:20260905T090000
DTEND;TZID=America/New_York:20260905T100000
DTSTAMP:20260424T082155
CREATED:20241203T172013Z
LAST-MODIFIED:20251008T164117Z
UID:10000570-1788598800-1788602400@www.stjohnsdevon.com
SUMMARY:Exercise Class
DESCRIPTION:
URL:https://www.stjohnsdevon.com/event/exercise-class-2/2026-09-05/
LOCATION:Fellowship Hall
ATTACH;FMTTYPE=image/jpeg:https://www.stjohnsdevon.com/wp-content/uploads/2024/12/anupam-mahapatra-Vz0RbclzG_w-unsplash.jpg
END:VEVENT
BEGIN:VEVENT
DTSTART;TZID=America/New_York:20260908T163000
DTEND;TZID=America/New_York:20260908T173000
DTSTAMP:20260424T082155
CREATED:20250702T194805Z
LAST-MODIFIED:20260114T164605Z
UID:10003635-1788885000-1788888600@www.stjohnsdevon.com
SUMMARY:Exercise Class
DESCRIPTION:
URL:https://www.stjohnsdevon.com/event/exercise-class/2026-09-08/
LOCATION:Fellowship Hall
ATTACH;FMTTYPE=image/jpeg:https://www.stjohnsdevon.com/wp-content/uploads/2024/12/anupam-mahapatra-Vz0RbclzG_w-unsplash.jpg
END:VEVENT
BEGIN:VEVENT
DTSTART;TZID=America/New_York:20260910T163000
DTEND;TZID=America/New_York:20260910T173000
DTSTAMP:20260424T082155
CREATED:20241203T211408Z
LAST-MODIFIED:20260114T164651Z
UID:10003900-1789057800-1789061400@www.stjohnsdevon.com
SUMMARY:Exercise Class
DESCRIPTION:
URL:https://www.stjohnsdevon.com/event/exercise-class-3/2026-09-10/
LOCATION:Fellowship Hall
ATTACH;FMTTYPE=image/jpeg:https://www.stjohnsdevon.com/wp-content/uploads/2024/12/anupam-mahapatra-Vz0RbclzG_w-unsplash.jpg
END:VEVENT
BEGIN:VEVENT
DTSTART;TZID=America/New_York:20260912T090000
DTEND;TZID=America/New_York:20260912T100000
DTSTAMP:20260424T082155
CREATED:20241203T172013Z
LAST-MODIFIED:20251008T164117Z
UID:10000571-1789203600-1789207200@www.stjohnsdevon.com
SUMMARY:Exercise Class
DESCRIPTION:
URL:https://www.stjohnsdevon.com/event/exercise-class-2/2026-09-12/
LOCATION:Fellowship Hall
ATTACH;FMTTYPE=image/jpeg:https://www.stjohnsdevon.com/wp-content/uploads/2024/12/anupam-mahapatra-Vz0RbclzG_w-unsplash.jpg
END:VEVENT
BEGIN:VEVENT
DTSTART;TZID=America/New_York:20260915T080000
DTEND;TZID=America/New_York:20260915T150000
DTSTAMP:20260424T082155
CREATED:20250130T202923Z
LAST-MODIFIED:20250924T002814Z
UID:10001592-1789459200-1789484400@www.stjohnsdevon.com
SUMMARY:Sogetsu Class
DESCRIPTION:
URL:https://www.stjohnsdevon.com/event/ikebana-class/2026-09-15/
LOCATION:Fellowship Hall
ATTACH;FMTTYPE=image/jpeg:https://www.stjohnsdevon.com/wp-content/uploads/2025/01/47706972662_316aa650c3_c.jpg
END:VEVENT
BEGIN:VEVENT
DTSTART;TZID=America/New_York:20260915T163000
DTEND;TZID=America/New_York:20260915T173000
DTSTAMP:20260424T082155
CREATED:20250702T194805Z
LAST-MODIFIED:20260114T164605Z
UID:10003636-1789489800-1789493400@www.stjohnsdevon.com
SUMMARY:Exercise Class
DESCRIPTION:
URL:https://www.stjohnsdevon.com/event/exercise-class/2026-09-15/
LOCATION:Fellowship Hall
ATTACH;FMTTYPE=image/jpeg:https://www.stjohnsdevon.com/wp-content/uploads/2024/12/anupam-mahapatra-Vz0RbclzG_w-unsplash.jpg
END:VEVENT
BEGIN:VEVENT
DTSTART;TZID=America/New_York:20260917T163000
DTEND;TZID=America/New_York:20260917T173000
DTSTAMP:20260424T082155
CREATED:20241203T211408Z
LAST-MODIFIED:20260114T164651Z
UID:10003901-1789662600-1789666200@www.stjohnsdevon.com
SUMMARY:Exercise Class
DESCRIPTION:
URL:https://www.stjohnsdevon.com/event/exercise-class-3/2026-09-17/
LOCATION:Fellowship Hall
ATTACH;FMTTYPE=image/jpeg:https://www.stjohnsdevon.com/wp-content/uploads/2024/12/anupam-mahapatra-Vz0RbclzG_w-unsplash.jpg
END:VEVENT
BEGIN:VEVENT
DTSTART;TZID=America/New_York:20260919T090000
DTEND;TZID=America/New_York:20260919T100000
DTSTAMP:20260424T082155
CREATED:20241203T172013Z
LAST-MODIFIED:20251008T164117Z
UID:10000572-1789808400-1789812000@www.stjohnsdevon.com
SUMMARY:Exercise Class
DESCRIPTION:
URL:https://www.stjohnsdevon.com/event/exercise-class-2/2026-09-19/
LOCATION:Fellowship Hall
ATTACH;FMTTYPE=image/jpeg:https://www.stjohnsdevon.com/wp-content/uploads/2024/12/anupam-mahapatra-Vz0RbclzG_w-unsplash.jpg
END:VEVENT
BEGIN:VEVENT
DTSTART;TZID=America/New_York:20260922T163000
DTEND;TZID=America/New_York:20260922T173000
DTSTAMP:20260424T082155
CREATED:20250702T194805Z
LAST-MODIFIED:20260114T164605Z
UID:10003637-1790094600-1790098200@www.stjohnsdevon.com
SUMMARY:Exercise Class
DESCRIPTION:
URL:https://www.stjohnsdevon.com/event/exercise-class/2026-09-22/
LOCATION:Fellowship Hall
ATTACH;FMTTYPE=image/jpeg:https://www.stjohnsdevon.com/wp-content/uploads/2024/12/anupam-mahapatra-Vz0RbclzG_w-unsplash.jpg
END:VEVENT
BEGIN:VEVENT
DTSTART;TZID=America/New_York:20260924T163000
DTEND;TZID=America/New_York:20260924T173000
DTSTAMP:20260424T082155
CREATED:20241203T211408Z
LAST-MODIFIED:20260114T164651Z
UID:10003902-1790267400-1790271000@www.stjohnsdevon.com
SUMMARY:Exercise Class
DESCRIPTION:
URL:https://www.stjohnsdevon.com/event/exercise-class-3/2026-09-24/
LOCATION:Fellowship Hall
ATTACH;FMTTYPE=image/jpeg:https://www.stjohnsdevon.com/wp-content/uploads/2024/12/anupam-mahapatra-Vz0RbclzG_w-unsplash.jpg
END:VEVENT
BEGIN:VEVENT
DTSTART;TZID=America/New_York:20260926T090000
DTEND;TZID=America/New_York:20260926T100000
DTSTAMP:20260424T082155
CREATED:20241203T172013Z
LAST-MODIFIED:20251008T164117Z
UID:10000573-1790413200-1790416800@www.stjohnsdevon.com
SUMMARY:Exercise Class
DESCRIPTION:
URL:https://www.stjohnsdevon.com/event/exercise-class-2/2026-09-26/
LOCATION:Fellowship Hall
ATTACH;FMTTYPE=image/jpeg:https://www.stjohnsdevon.com/wp-content/uploads/2024/12/anupam-mahapatra-Vz0RbclzG_w-unsplash.jpg
END:VEVENT
BEGIN:VEVENT
DTSTART;TZID=America/New_York:20260929T163000
DTEND;TZID=America/New_York:20260929T173000
DTSTAMP:20260424T082155
CREATED:20250702T194805Z
LAST-MODIFIED:20260114T164605Z
UID:10003638-1790699400-1790703000@www.stjohnsdevon.com
SUMMARY:Exercise Class
DESCRIPTION:
URL:https://www.stjohnsdevon.com/event/exercise-class/2026-09-29/
LOCATION:Fellowship Hall
ATTACH;FMTTYPE=image/jpeg:https://www.stjohnsdevon.com/wp-content/uploads/2024/12/anupam-mahapatra-Vz0RbclzG_w-unsplash.jpg
END:VEVENT
BEGIN:VEVENT
DTSTART;TZID=America/New_York:20261001T163000
DTEND;TZID=America/New_York:20261001T173000
DTSTAMP:20260424T082155
CREATED:20241203T211408Z
LAST-MODIFIED:20260114T164651Z
UID:10003903-1790872200-1790875800@www.stjohnsdevon.com
SUMMARY:Exercise Class
DESCRIPTION:
URL:https://www.stjohnsdevon.com/event/exercise-class-3/2026-10-01/
LOCATION:Fellowship Hall
ATTACH;FMTTYPE=image/jpeg:https://www.stjohnsdevon.com/wp-content/uploads/2024/12/anupam-mahapatra-Vz0RbclzG_w-unsplash.jpg
END:VEVENT
BEGIN:VEVENT
DTSTART;TZID=America/New_York:20261003T090000
DTEND;TZID=America/New_York:20261003T100000
DTSTAMP:20260424T082155
CREATED:20241203T172013Z
LAST-MODIFIED:20251008T164117Z
UID:10000574-1791018000-1791021600@www.stjohnsdevon.com
SUMMARY:Exercise Class
DESCRIPTION:
URL:https://www.stjohnsdevon.com/event/exercise-class-2/2026-10-03/
LOCATION:Fellowship Hall
ATTACH;FMTTYPE=image/jpeg:https://www.stjohnsdevon.com/wp-content/uploads/2024/12/anupam-mahapatra-Vz0RbclzG_w-unsplash.jpg
END:VEVENT
BEGIN:VEVENT
DTSTART;TZID=America/New_York:20261006T163000
DTEND;TZID=America/New_York:20261006T173000
DTSTAMP:20260424T082155
CREATED:20250702T194805Z
LAST-MODIFIED:20260114T164605Z
UID:10003639-1791304200-1791307800@www.stjohnsdevon.com
SUMMARY:Exercise Class
DESCRIPTION:
URL:https://www.stjohnsdevon.com/event/exercise-class/2026-10-06/
LOCATION:Fellowship Hall
ATTACH;FMTTYPE=image/jpeg:https://www.stjohnsdevon.com/wp-content/uploads/2024/12/anupam-mahapatra-Vz0RbclzG_w-unsplash.jpg
END:VEVENT
BEGIN:VEVENT
DTSTART;TZID=America/New_York:20261008T163000
DTEND;TZID=America/New_York:20261008T173000
DTSTAMP:20260424T082155
CREATED:20241203T211408Z
LAST-MODIFIED:20260114T164651Z
UID:10003904-1791477000-1791480600@www.stjohnsdevon.com
SUMMARY:Exercise Class
DESCRIPTION:
URL:https://www.stjohnsdevon.com/event/exercise-class-3/2026-10-08/
LOCATION:Fellowship Hall
ATTACH;FMTTYPE=image/jpeg:https://www.stjohnsdevon.com/wp-content/uploads/2024/12/anupam-mahapatra-Vz0RbclzG_w-unsplash.jpg
END:VEVENT
BEGIN:VEVENT
DTSTART;TZID=America/New_York:20261010T090000
DTEND;TZID=America/New_York:20261010T100000
DTSTAMP:20260424T082155
CREATED:20241203T172013Z
LAST-MODIFIED:20251008T164117Z
UID:10000575-1791622800-1791626400@www.stjohnsdevon.com
SUMMARY:Exercise Class
DESCRIPTION:
URL:https://www.stjohnsdevon.com/event/exercise-class-2/2026-10-10/
LOCATION:Fellowship Hall
ATTACH;FMTTYPE=image/jpeg:https://www.stjohnsdevon.com/wp-content/uploads/2024/12/anupam-mahapatra-Vz0RbclzG_w-unsplash.jpg
END:VEVENT
BEGIN:VEVENT
DTSTART;TZID=America/New_York:20261013T163000
DTEND;TZID=America/New_York:20261013T173000
DTSTAMP:20260424T082155
CREATED:20250702T194805Z
LAST-MODIFIED:20260114T164605Z
UID:10003640-1791909000-1791912600@www.stjohnsdevon.com
SUMMARY:Exercise Class
DESCRIPTION:
URL:https://www.stjohnsdevon.com/event/exercise-class/2026-10-13/
LOCATION:Fellowship Hall
ATTACH;FMTTYPE=image/jpeg:https://www.stjohnsdevon.com/wp-content/uploads/2024/12/anupam-mahapatra-Vz0RbclzG_w-unsplash.jpg
END:VEVENT
BEGIN:VEVENT
DTSTART;TZID=America/New_York:20261015T163000
DTEND;TZID=America/New_York:20261015T173000
DTSTAMP:20260424T082155
CREATED:20241203T211408Z
LAST-MODIFIED:20260114T164651Z
UID:10003905-1792081800-1792085400@www.stjohnsdevon.com
SUMMARY:Exercise Class
DESCRIPTION:
URL:https://www.stjohnsdevon.com/event/exercise-class-3/2026-10-15/
LOCATION:Fellowship Hall
ATTACH;FMTTYPE=image/jpeg:https://www.stjohnsdevon.com/wp-content/uploads/2024/12/anupam-mahapatra-Vz0RbclzG_w-unsplash.jpg
END:VEVENT
BEGIN:VEVENT
DTSTART;TZID=America/New_York:20261017T090000
DTEND;TZID=America/New_York:20261017T100000
DTSTAMP:20260424T082155
CREATED:20241203T172013Z
LAST-MODIFIED:20251008T164117Z
UID:10000576-1792227600-1792231200@www.stjohnsdevon.com
SUMMARY:Exercise Class
DESCRIPTION:
URL:https://www.stjohnsdevon.com/event/exercise-class-2/2026-10-17/
LOCATION:Fellowship Hall
ATTACH;FMTTYPE=image/jpeg:https://www.stjohnsdevon.com/wp-content/uploads/2024/12/anupam-mahapatra-Vz0RbclzG_w-unsplash.jpg
END:VEVENT
BEGIN:VEVENT
DTSTART;TZID=America/New_York:20261020T080000
DTEND;TZID=America/New_York:20261020T150000
DTSTAMP:20260424T082155
CREATED:20250130T202923Z
LAST-MODIFIED:20250924T002814Z
UID:10001593-1792483200-1792508400@www.stjohnsdevon.com
SUMMARY:Sogetsu Class
DESCRIPTION:
URL:https://www.stjohnsdevon.com/event/ikebana-class/2026-10-20/
LOCATION:Fellowship Hall
ATTACH;FMTTYPE=image/jpeg:https://www.stjohnsdevon.com/wp-content/uploads/2025/01/47706972662_316aa650c3_c.jpg
END:VEVENT
BEGIN:VEVENT
DTSTART;TZID=America/New_York:20261020T163000
DTEND;TZID=America/New_York:20261020T173000
DTSTAMP:20260424T082155
CREATED:20250702T194805Z
LAST-MODIFIED:20260114T164605Z
UID:10003641-1792513800-1792517400@www.stjohnsdevon.com
SUMMARY:Exercise Class
DESCRIPTION:
URL:https://www.stjohnsdevon.com/event/exercise-class/2026-10-20/
LOCATION:Fellowship Hall
ATTACH;FMTTYPE=image/jpeg:https://www.stjohnsdevon.com/wp-content/uploads/2024/12/anupam-mahapatra-Vz0RbclzG_w-unsplash.jpg
END:VEVENT
BEGIN:VEVENT
DTSTART;TZID=America/New_York:20261022T163000
DTEND;TZID=America/New_York:20261022T173000
DTSTAMP:20260424T082155
CREATED:20241203T211408Z
LAST-MODIFIED:20260114T164651Z
UID:10003906-1792686600-1792690200@www.stjohnsdevon.com
SUMMARY:Exercise Class
DESCRIPTION:
URL:https://www.stjohnsdevon.com/event/exercise-class-3/2026-10-22/
LOCATION:Fellowship Hall
ATTACH;FMTTYPE=image/jpeg:https://www.stjohnsdevon.com/wp-content/uploads/2024/12/anupam-mahapatra-Vz0RbclzG_w-unsplash.jpg
END:VEVENT
BEGIN:VEVENT
DTSTART;TZID=America/New_York:20261024T090000
DTEND;TZID=America/New_York:20261024T100000
DTSTAMP:20260424T082155
CREATED:20241203T172013Z
LAST-MODIFIED:20251008T164117Z
UID:10000577-1792832400-1792836000@www.stjohnsdevon.com
SUMMARY:Exercise Class
DESCRIPTION:
URL:https://www.stjohnsdevon.com/event/exercise-class-2/2026-10-24/
LOCATION:Fellowship Hall
ATTACH;FMTTYPE=image/jpeg:https://www.stjohnsdevon.com/wp-content/uploads/2024/12/anupam-mahapatra-Vz0RbclzG_w-unsplash.jpg
END:VEVENT
BEGIN:VEVENT
DTSTART;TZID=America/New_York:20261026T190000
DTEND;TZID=America/New_York:20261026T210000
DTSTAMP:20260424T082155
CREATED:20251029T150246Z
LAST-MODIFIED:20251029T150246Z
UID:10002939-1793041200-1793048400@www.stjohnsdevon.com
SUMMARY:Berwyn Highlands HOA
DESCRIPTION:
URL:https://www.stjohnsdevon.com/event/berwyn-highlands-hoa/
LOCATION:Fellowship Hall
END:VEVENT
BEGIN:VEVENT
DTSTART;TZID=America/New_York:20261027T163000
DTEND;TZID=America/New_York:20261027T173000
DTSTAMP:20260424T082155
CREATED:20250702T194805Z
LAST-MODIFIED:20260114T164605Z
UID:10003642-1793118600-1793122200@www.stjohnsdevon.com
SUMMARY:Exercise Class
DESCRIPTION:
URL:https://www.stjohnsdevon.com/event/exercise-class/2026-10-27/
LOCATION:Fellowship Hall
ATTACH;FMTTYPE=image/jpeg:https://www.stjohnsdevon.com/wp-content/uploads/2024/12/anupam-mahapatra-Vz0RbclzG_w-unsplash.jpg
END:VEVENT
BEGIN:VEVENT
DTSTART;TZID=America/New_York:20261029T163000
DTEND;TZID=America/New_York:20261029T173000
DTSTAMP:20260424T082155
CREATED:20241203T211408Z
LAST-MODIFIED:20260114T164651Z
UID:10003907-1793291400-1793295000@www.stjohnsdevon.com
SUMMARY:Exercise Class
DESCRIPTION:
URL:https://www.stjohnsdevon.com/event/exercise-class-3/2026-10-29/
LOCATION:Fellowship Hall
ATTACH;FMTTYPE=image/jpeg:https://www.stjohnsdevon.com/wp-content/uploads/2024/12/anupam-mahapatra-Vz0RbclzG_w-unsplash.jpg
END:VEVENT
BEGIN:VEVENT
DTSTART;TZID=America/New_York:20261031T090000
DTEND;TZID=America/New_York:20261031T100000
DTSTAMP:20260424T082155
CREATED:20241203T172013Z
LAST-MODIFIED:20251008T164117Z
UID:10000578-1793437200-1793440800@www.stjohnsdevon.com
SUMMARY:Exercise Class
DESCRIPTION:
URL:https://www.stjohnsdevon.com/event/exercise-class-2/2026-10-31/
LOCATION:Fellowship Hall
ATTACH;FMTTYPE=image/jpeg:https://www.stjohnsdevon.com/wp-content/uploads/2024/12/anupam-mahapatra-Vz0RbclzG_w-unsplash.jpg
END:VEVENT
END:VCALENDAR