BEGIN:VCALENDAR
VERSION:2.0
PRODID:-//St. John’s Presbyterian Church - ECPv6.15.20//NONSGML v1.0//EN
CALSCALE:GREGORIAN
METHOD:PUBLISH
X-ORIGINAL-URL:https://www.stjohnsdevon.com
X-WR-CALDESC:Events for St. John’s Presbyterian Church
REFRESH-INTERVAL;VALUE=DURATION:PT1H
X-Robots-Tag:noindex
X-PUBLISHED-TTL:PT1H
BEGIN:VTIMEZONE
TZID:America/New_York
BEGIN:DAYLIGHT
TZOFFSETFROM:-0500
TZOFFSETTO:-0400
TZNAME:EDT
DTSTART:20250309T070000
END:DAYLIGHT
BEGIN:STANDARD
TZOFFSETFROM:-0400
TZOFFSETTO:-0500
TZNAME:EST
DTSTART:20251102T060000
END:STANDARD
BEGIN:DAYLIGHT
TZOFFSETFROM:-0500
TZOFFSETTO:-0400
TZNAME:EDT
DTSTART:20260308T070000
END:DAYLIGHT
BEGIN:STANDARD
TZOFFSETFROM:-0400
TZOFFSETTO:-0500
TZNAME:EST
DTSTART:20261101T060000
END:STANDARD
BEGIN:DAYLIGHT
TZOFFSETFROM:-0500
TZOFFSETTO:-0400
TZNAME:EDT
DTSTART:20270314T070000
END:DAYLIGHT
BEGIN:STANDARD
TZOFFSETFROM:-0400
TZOFFSETTO:-0500
TZNAME:EST
DTSTART:20271107T060000
END:STANDARD
END:VTIMEZONE
BEGIN:VEVENT
DTSTART;TZID=America/New_York:20260711T090000
DTEND;TZID=America/New_York:20260711T100000
DTSTAMP:20260424T053510
CREATED:20241203T172013Z
LAST-MODIFIED:20251008T164117Z
UID:10000562-1783760400-1783764000@www.stjohnsdevon.com
SUMMARY:Exercise Class
DESCRIPTION:
URL:https://www.stjohnsdevon.com/event/exercise-class-2/2026-07-11/
LOCATION:Fellowship Hall
ATTACH;FMTTYPE=image/jpeg:https://www.stjohnsdevon.com/wp-content/uploads/2024/12/anupam-mahapatra-Vz0RbclzG_w-unsplash.jpg
END:VEVENT
BEGIN:VEVENT
DTSTART;TZID=America/New_York:20260714T163000
DTEND;TZID=America/New_York:20260714T173000
DTSTAMP:20260424T053510
CREATED:20250702T194805Z
LAST-MODIFIED:20260114T164605Z
UID:10003627-1784046600-1784050200@www.stjohnsdevon.com
SUMMARY:Exercise Class
DESCRIPTION:
URL:https://www.stjohnsdevon.com/event/exercise-class/2026-07-14/
LOCATION:Fellowship Hall
ATTACH;FMTTYPE=image/jpeg:https://www.stjohnsdevon.com/wp-content/uploads/2024/12/anupam-mahapatra-Vz0RbclzG_w-unsplash.jpg
END:VEVENT
BEGIN:VEVENT
DTSTART;TZID=America/New_York:20260716T163000
DTEND;TZID=America/New_York:20260716T173000
DTSTAMP:20260424T053510
CREATED:20241203T211408Z
LAST-MODIFIED:20260114T164651Z
UID:10003892-1784219400-1784223000@www.stjohnsdevon.com
SUMMARY:Exercise Class
DESCRIPTION:
URL:https://www.stjohnsdevon.com/event/exercise-class-3/2026-07-16/
LOCATION:Fellowship Hall
ATTACH;FMTTYPE=image/jpeg:https://www.stjohnsdevon.com/wp-content/uploads/2024/12/anupam-mahapatra-Vz0RbclzG_w-unsplash.jpg
END:VEVENT
BEGIN:VEVENT
DTSTART;TZID=America/New_York:20260718T090000
DTEND;TZID=America/New_York:20260718T100000
DTSTAMP:20260424T053510
CREATED:20241203T172013Z
LAST-MODIFIED:20251008T164117Z
UID:10000563-1784365200-1784368800@www.stjohnsdevon.com
SUMMARY:Exercise Class
DESCRIPTION:
URL:https://www.stjohnsdevon.com/event/exercise-class-2/2026-07-18/
LOCATION:Fellowship Hall
ATTACH;FMTTYPE=image/jpeg:https://www.stjohnsdevon.com/wp-content/uploads/2024/12/anupam-mahapatra-Vz0RbclzG_w-unsplash.jpg
END:VEVENT
BEGIN:VEVENT
DTSTART;TZID=America/New_York:20260721T080000
DTEND;TZID=America/New_York:20260721T150000
DTSTAMP:20260424T053510
CREATED:20250130T202923Z
LAST-MODIFIED:20250924T002814Z
UID:10001590-1784620800-1784646000@www.stjohnsdevon.com
SUMMARY:Sogetsu Class
DESCRIPTION:
URL:https://www.stjohnsdevon.com/event/ikebana-class/2026-07-21/
LOCATION:Fellowship Hall
ATTACH;FMTTYPE=image/jpeg:https://www.stjohnsdevon.com/wp-content/uploads/2025/01/47706972662_316aa650c3_c.jpg
END:VEVENT
BEGIN:VEVENT
DTSTART;TZID=America/New_York:20260721T163000
DTEND;TZID=America/New_York:20260721T173000
DTSTAMP:20260424T053510
CREATED:20250702T194805Z
LAST-MODIFIED:20260114T164605Z
UID:10003628-1784651400-1784655000@www.stjohnsdevon.com
SUMMARY:Exercise Class
DESCRIPTION:
URL:https://www.stjohnsdevon.com/event/exercise-class/2026-07-21/
LOCATION:Fellowship Hall
ATTACH;FMTTYPE=image/jpeg:https://www.stjohnsdevon.com/wp-content/uploads/2024/12/anupam-mahapatra-Vz0RbclzG_w-unsplash.jpg
END:VEVENT
BEGIN:VEVENT
DTSTART;TZID=America/New_York:20260723T163000
DTEND;TZID=America/New_York:20260723T173000
DTSTAMP:20260424T053510
CREATED:20241203T211408Z
LAST-MODIFIED:20260114T164651Z
UID:10003893-1784824200-1784827800@www.stjohnsdevon.com
SUMMARY:Exercise Class
DESCRIPTION:
URL:https://www.stjohnsdevon.com/event/exercise-class-3/2026-07-23/
LOCATION:Fellowship Hall
ATTACH;FMTTYPE=image/jpeg:https://www.stjohnsdevon.com/wp-content/uploads/2024/12/anupam-mahapatra-Vz0RbclzG_w-unsplash.jpg
END:VEVENT
BEGIN:VEVENT
DTSTART;TZID=America/New_York:20260725T090000
DTEND;TZID=America/New_York:20260725T100000
DTSTAMP:20260424T053510
CREATED:20241203T172013Z
LAST-MODIFIED:20251008T164117Z
UID:10000564-1784970000-1784973600@www.stjohnsdevon.com
SUMMARY:Exercise Class
DESCRIPTION:
URL:https://www.stjohnsdevon.com/event/exercise-class-2/2026-07-25/
LOCATION:Fellowship Hall
ATTACH;FMTTYPE=image/jpeg:https://www.stjohnsdevon.com/wp-content/uploads/2024/12/anupam-mahapatra-Vz0RbclzG_w-unsplash.jpg
END:VEVENT
BEGIN:VEVENT
DTSTART;TZID=America/New_York:20260728T163000
DTEND;TZID=America/New_York:20260728T173000
DTSTAMP:20260424T053510
CREATED:20250702T194805Z
LAST-MODIFIED:20260114T164605Z
UID:10003629-1785256200-1785259800@www.stjohnsdevon.com
SUMMARY:Exercise Class
DESCRIPTION:
URL:https://www.stjohnsdevon.com/event/exercise-class/2026-07-28/
LOCATION:Fellowship Hall
ATTACH;FMTTYPE=image/jpeg:https://www.stjohnsdevon.com/wp-content/uploads/2024/12/anupam-mahapatra-Vz0RbclzG_w-unsplash.jpg
END:VEVENT
BEGIN:VEVENT
DTSTART;TZID=America/New_York:20260730T163000
DTEND;TZID=America/New_York:20260730T173000
DTSTAMP:20260424T053510
CREATED:20241203T211408Z
LAST-MODIFIED:20260114T164651Z
UID:10003894-1785429000-1785432600@www.stjohnsdevon.com
SUMMARY:Exercise Class
DESCRIPTION:
URL:https://www.stjohnsdevon.com/event/exercise-class-3/2026-07-30/
LOCATION:Fellowship Hall
ATTACH;FMTTYPE=image/jpeg:https://www.stjohnsdevon.com/wp-content/uploads/2024/12/anupam-mahapatra-Vz0RbclzG_w-unsplash.jpg
END:VEVENT
BEGIN:VEVENT
DTSTART;TZID=America/New_York:20260801T090000
DTEND;TZID=America/New_York:20260801T100000
DTSTAMP:20260424T053510
CREATED:20241203T172013Z
LAST-MODIFIED:20251008T164117Z
UID:10000565-1785574800-1785578400@www.stjohnsdevon.com
SUMMARY:Exercise Class
DESCRIPTION:
URL:https://www.stjohnsdevon.com/event/exercise-class-2/2026-08-01/
LOCATION:Fellowship Hall
ATTACH;FMTTYPE=image/jpeg:https://www.stjohnsdevon.com/wp-content/uploads/2024/12/anupam-mahapatra-Vz0RbclzG_w-unsplash.jpg
END:VEVENT
BEGIN:VEVENT
DTSTART;TZID=America/New_York:20260804T163000
DTEND;TZID=America/New_York:20260804T173000
DTSTAMP:20260424T053510
CREATED:20250702T194805Z
LAST-MODIFIED:20260114T164605Z
UID:10003630-1785861000-1785864600@www.stjohnsdevon.com
SUMMARY:Exercise Class
DESCRIPTION:
URL:https://www.stjohnsdevon.com/event/exercise-class/2026-08-04/
LOCATION:Fellowship Hall
ATTACH;FMTTYPE=image/jpeg:https://www.stjohnsdevon.com/wp-content/uploads/2024/12/anupam-mahapatra-Vz0RbclzG_w-unsplash.jpg
END:VEVENT
BEGIN:VEVENT
DTSTART;TZID=America/New_York:20260806T163000
DTEND;TZID=America/New_York:20260806T173000
DTSTAMP:20260424T053510
CREATED:20241203T211408Z
LAST-MODIFIED:20260114T164651Z
UID:10003895-1786033800-1786037400@www.stjohnsdevon.com
SUMMARY:Exercise Class
DESCRIPTION:
URL:https://www.stjohnsdevon.com/event/exercise-class-3/2026-08-06/
LOCATION:Fellowship Hall
ATTACH;FMTTYPE=image/jpeg:https://www.stjohnsdevon.com/wp-content/uploads/2024/12/anupam-mahapatra-Vz0RbclzG_w-unsplash.jpg
END:VEVENT
BEGIN:VEVENT
DTSTART;TZID=America/New_York:20260808T090000
DTEND;TZID=America/New_York:20260808T100000
DTSTAMP:20260424T053510
CREATED:20241203T172013Z
LAST-MODIFIED:20251008T164117Z
UID:10000566-1786179600-1786183200@www.stjohnsdevon.com
SUMMARY:Exercise Class
DESCRIPTION:
URL:https://www.stjohnsdevon.com/event/exercise-class-2/2026-08-08/
LOCATION:Fellowship Hall
ATTACH;FMTTYPE=image/jpeg:https://www.stjohnsdevon.com/wp-content/uploads/2024/12/anupam-mahapatra-Vz0RbclzG_w-unsplash.jpg
END:VEVENT
BEGIN:VEVENT
DTSTART;TZID=America/New_York:20260811T163000
DTEND;TZID=America/New_York:20260811T173000
DTSTAMP:20260424T053510
CREATED:20250702T194805Z
LAST-MODIFIED:20260114T164605Z
UID:10003631-1786465800-1786469400@www.stjohnsdevon.com
SUMMARY:Exercise Class
DESCRIPTION:
URL:https://www.stjohnsdevon.com/event/exercise-class/2026-08-11/
LOCATION:Fellowship Hall
ATTACH;FMTTYPE=image/jpeg:https://www.stjohnsdevon.com/wp-content/uploads/2024/12/anupam-mahapatra-Vz0RbclzG_w-unsplash.jpg
END:VEVENT
BEGIN:VEVENT
DTSTART;TZID=America/New_York:20260813T163000
DTEND;TZID=America/New_York:20260813T173000
DTSTAMP:20260424T053510
CREATED:20241203T211408Z
LAST-MODIFIED:20260114T164651Z
UID:10003896-1786638600-1786642200@www.stjohnsdevon.com
SUMMARY:Exercise Class
DESCRIPTION:
URL:https://www.stjohnsdevon.com/event/exercise-class-3/2026-08-13/
LOCATION:Fellowship Hall
ATTACH;FMTTYPE=image/jpeg:https://www.stjohnsdevon.com/wp-content/uploads/2024/12/anupam-mahapatra-Vz0RbclzG_w-unsplash.jpg
END:VEVENT
BEGIN:VEVENT
DTSTART;TZID=America/New_York:20260815T090000
DTEND;TZID=America/New_York:20260815T100000
DTSTAMP:20260424T053510
CREATED:20241203T172013Z
LAST-MODIFIED:20251008T164117Z
UID:10000567-1786784400-1786788000@www.stjohnsdevon.com
SUMMARY:Exercise Class
DESCRIPTION:
URL:https://www.stjohnsdevon.com/event/exercise-class-2/2026-08-15/
LOCATION:Fellowship Hall
ATTACH;FMTTYPE=image/jpeg:https://www.stjohnsdevon.com/wp-content/uploads/2024/12/anupam-mahapatra-Vz0RbclzG_w-unsplash.jpg
END:VEVENT
BEGIN:VEVENT
DTSTART;TZID=America/New_York:20260818T080000
DTEND;TZID=America/New_York:20260818T150000
DTSTAMP:20260424T053510
CREATED:20250130T202923Z
LAST-MODIFIED:20250924T002814Z
UID:10001591-1787040000-1787065200@www.stjohnsdevon.com
SUMMARY:Sogetsu Class
DESCRIPTION:
URL:https://www.stjohnsdevon.com/event/ikebana-class/2026-08-18/
LOCATION:Fellowship Hall
ATTACH;FMTTYPE=image/jpeg:https://www.stjohnsdevon.com/wp-content/uploads/2025/01/47706972662_316aa650c3_c.jpg
END:VEVENT
BEGIN:VEVENT
DTSTART;TZID=America/New_York:20260818T163000
DTEND;TZID=America/New_York:20260818T173000
DTSTAMP:20260424T053510
CREATED:20250702T194805Z
LAST-MODIFIED:20260114T164605Z
UID:10003632-1787070600-1787074200@www.stjohnsdevon.com
SUMMARY:Exercise Class
DESCRIPTION:
URL:https://www.stjohnsdevon.com/event/exercise-class/2026-08-18/
LOCATION:Fellowship Hall
ATTACH;FMTTYPE=image/jpeg:https://www.stjohnsdevon.com/wp-content/uploads/2024/12/anupam-mahapatra-Vz0RbclzG_w-unsplash.jpg
END:VEVENT
BEGIN:VEVENT
DTSTART;TZID=America/New_York:20260820T163000
DTEND;TZID=America/New_York:20260820T173000
DTSTAMP:20260424T053510
CREATED:20241203T211408Z
LAST-MODIFIED:20260114T164651Z
UID:10003897-1787243400-1787247000@www.stjohnsdevon.com
SUMMARY:Exercise Class
DESCRIPTION:
URL:https://www.stjohnsdevon.com/event/exercise-class-3/2026-08-20/
LOCATION:Fellowship Hall
ATTACH;FMTTYPE=image/jpeg:https://www.stjohnsdevon.com/wp-content/uploads/2024/12/anupam-mahapatra-Vz0RbclzG_w-unsplash.jpg
END:VEVENT
BEGIN:VEVENT
DTSTART;TZID=America/New_York:20260822T090000
DTEND;TZID=America/New_York:20260822T100000
DTSTAMP:20260424T053510
CREATED:20241203T172013Z
LAST-MODIFIED:20251008T164117Z
UID:10000568-1787389200-1787392800@www.stjohnsdevon.com
SUMMARY:Exercise Class
DESCRIPTION:
URL:https://www.stjohnsdevon.com/event/exercise-class-2/2026-08-22/
LOCATION:Fellowship Hall
ATTACH;FMTTYPE=image/jpeg:https://www.stjohnsdevon.com/wp-content/uploads/2024/12/anupam-mahapatra-Vz0RbclzG_w-unsplash.jpg
END:VEVENT
BEGIN:VEVENT
DTSTART;TZID=America/New_York:20260825T163000
DTEND;TZID=America/New_York:20260825T173000
DTSTAMP:20260424T053510
CREATED:20250702T194805Z
LAST-MODIFIED:20260114T164605Z
UID:10003633-1787675400-1787679000@www.stjohnsdevon.com
SUMMARY:Exercise Class
DESCRIPTION:
URL:https://www.stjohnsdevon.com/event/exercise-class/2026-08-25/
LOCATION:Fellowship Hall
ATTACH;FMTTYPE=image/jpeg:https://www.stjohnsdevon.com/wp-content/uploads/2024/12/anupam-mahapatra-Vz0RbclzG_w-unsplash.jpg
END:VEVENT
BEGIN:VEVENT
DTSTART;TZID=America/New_York:20260827T163000
DTEND;TZID=America/New_York:20260827T173000
DTSTAMP:20260424T053510
CREATED:20241203T211408Z
LAST-MODIFIED:20260114T164651Z
UID:10003898-1787848200-1787851800@www.stjohnsdevon.com
SUMMARY:Exercise Class
DESCRIPTION:
URL:https://www.stjohnsdevon.com/event/exercise-class-3/2026-08-27/
LOCATION:Fellowship Hall
ATTACH;FMTTYPE=image/jpeg:https://www.stjohnsdevon.com/wp-content/uploads/2024/12/anupam-mahapatra-Vz0RbclzG_w-unsplash.jpg
END:VEVENT
BEGIN:VEVENT
DTSTART;TZID=America/New_York:20260829T090000
DTEND;TZID=America/New_York:20260829T100000
DTSTAMP:20260424T053510
CREATED:20241203T172013Z
LAST-MODIFIED:20251008T164117Z
UID:10000569-1787994000-1787997600@www.stjohnsdevon.com
SUMMARY:Exercise Class
DESCRIPTION:
URL:https://www.stjohnsdevon.com/event/exercise-class-2/2026-08-29/
LOCATION:Fellowship Hall
ATTACH;FMTTYPE=image/jpeg:https://www.stjohnsdevon.com/wp-content/uploads/2024/12/anupam-mahapatra-Vz0RbclzG_w-unsplash.jpg
END:VEVENT
BEGIN:VEVENT
DTSTART;TZID=America/New_York:20260901T163000
DTEND;TZID=America/New_York:20260901T173000
DTSTAMP:20260424T053510
CREATED:20250702T194805Z
LAST-MODIFIED:20260114T164605Z
UID:10003634-1788280200-1788283800@www.stjohnsdevon.com
SUMMARY:Exercise Class
DESCRIPTION:
URL:https://www.stjohnsdevon.com/event/exercise-class/2026-09-01/
LOCATION:Fellowship Hall
ATTACH;FMTTYPE=image/jpeg:https://www.stjohnsdevon.com/wp-content/uploads/2024/12/anupam-mahapatra-Vz0RbclzG_w-unsplash.jpg
END:VEVENT
BEGIN:VEVENT
DTSTART;TZID=America/New_York:20260903T163000
DTEND;TZID=America/New_York:20260903T173000
DTSTAMP:20260424T053510
CREATED:20241203T211408Z
LAST-MODIFIED:20260114T164651Z
UID:10003899-1788453000-1788456600@www.stjohnsdevon.com
SUMMARY:Exercise Class
DESCRIPTION:
URL:https://www.stjohnsdevon.com/event/exercise-class-3/2026-09-03/
LOCATION:Fellowship Hall
ATTACH;FMTTYPE=image/jpeg:https://www.stjohnsdevon.com/wp-content/uploads/2024/12/anupam-mahapatra-Vz0RbclzG_w-unsplash.jpg
END:VEVENT
BEGIN:VEVENT
DTSTART;TZID=America/New_York:20260905T090000
DTEND;TZID=America/New_York:20260905T100000
DTSTAMP:20260424T053510
CREATED:20241203T172013Z
LAST-MODIFIED:20251008T164117Z
UID:10000570-1788598800-1788602400@www.stjohnsdevon.com
SUMMARY:Exercise Class
DESCRIPTION:
URL:https://www.stjohnsdevon.com/event/exercise-class-2/2026-09-05/
LOCATION:Fellowship Hall
ATTACH;FMTTYPE=image/jpeg:https://www.stjohnsdevon.com/wp-content/uploads/2024/12/anupam-mahapatra-Vz0RbclzG_w-unsplash.jpg
END:VEVENT
BEGIN:VEVENT
DTSTART;TZID=America/New_York:20260908T163000
DTEND;TZID=America/New_York:20260908T173000
DTSTAMP:20260424T053510
CREATED:20250702T194805Z
LAST-MODIFIED:20260114T164605Z
UID:10003635-1788885000-1788888600@www.stjohnsdevon.com
SUMMARY:Exercise Class
DESCRIPTION:
URL:https://www.stjohnsdevon.com/event/exercise-class/2026-09-08/
LOCATION:Fellowship Hall
ATTACH;FMTTYPE=image/jpeg:https://www.stjohnsdevon.com/wp-content/uploads/2024/12/anupam-mahapatra-Vz0RbclzG_w-unsplash.jpg
END:VEVENT
BEGIN:VEVENT
DTSTART;TZID=America/New_York:20260910T163000
DTEND;TZID=America/New_York:20260910T173000
DTSTAMP:20260424T053510
CREATED:20241203T211408Z
LAST-MODIFIED:20260114T164651Z
UID:10003900-1789057800-1789061400@www.stjohnsdevon.com
SUMMARY:Exercise Class
DESCRIPTION:
URL:https://www.stjohnsdevon.com/event/exercise-class-3/2026-09-10/
LOCATION:Fellowship Hall
ATTACH;FMTTYPE=image/jpeg:https://www.stjohnsdevon.com/wp-content/uploads/2024/12/anupam-mahapatra-Vz0RbclzG_w-unsplash.jpg
END:VEVENT
BEGIN:VEVENT
DTSTART;TZID=America/New_York:20260912T090000
DTEND;TZID=America/New_York:20260912T100000
DTSTAMP:20260424T053510
CREATED:20241203T172013Z
LAST-MODIFIED:20251008T164117Z
UID:10000571-1789203600-1789207200@www.stjohnsdevon.com
SUMMARY:Exercise Class
DESCRIPTION:
URL:https://www.stjohnsdevon.com/event/exercise-class-2/2026-09-12/
LOCATION:Fellowship Hall
ATTACH;FMTTYPE=image/jpeg:https://www.stjohnsdevon.com/wp-content/uploads/2024/12/anupam-mahapatra-Vz0RbclzG_w-unsplash.jpg
END:VEVENT
END:VCALENDAR